BEGIN:VCALENDAR
VERSION:2.0
PRODID:-//Agenda do Vinho - ECPv4.9.0//NONSGML v1.0//EN
CALSCALE:GREGORIAN
METHOD:PUBLISH
X-WR-CALNAME:Agenda do Vinho
X-ORIGINAL-URL:https://agendadovinho.com.br
X-WR-CALDESC:Eventos para Agenda do Vinho
BEGIN:VEVENT
DTSTART;TZID=America/Sao_Paulo:20210610T200000
DTEND;TZID=America/Sao_Paulo:20210610T213000
DTSTAMP:20260422T213049
CREATED:20210517T171018Z
LAST-MODIFIED:20210517T171018Z
UID:17440-1623355200-1623360600@agendadovinho.com.br
SUMMARY:Confraria On Line Dia dos Namorados - Romance Itália
DESCRIPTION:10/jun – 20:00 \n
URL:https://agendadovinho.com.br/event/confraria-on-line-dia-dos-namorados-romance-italia/
LOCATION:Vídeo conferência
CATEGORIES:Online,Outros
ATTACH;FMTTYPE=image/jpeg:https://agendadovinho.com.br/wp-content/uploads/2021/05/confraria-online-dia-dos-namorados_100621.jpg
END:VEVENT
BEGIN:VEVENT
DTSTART;TZID=America/Sao_Paulo:20210610T200000
DTEND;TZID=America/Sao_Paulo:20210610T200000
DTSTAMP:20260422T213049
CREATED:20210607T194614Z
LAST-MODIFIED:20210607T194614Z
UID:17509-1623355200-1623355200@agendadovinho.com.br
SUMMARY:Eu não entendo nada de vinhos. O que há por trás desta afirmação?
DESCRIPTION:10/jun – 20:00 \n
URL:https://agendadovinho.com.br/event/eu-nao-entendo-nada-de-vinhos-o-que-ha-por-tras-desta-afirmacao/
LOCATION:Instagram
CATEGORIES:Curso técnico,Online
ATTACH;FMTTYPE=image/jpeg:https://agendadovinho.com.br/wp-content/uploads/2021/06/adolfo_lona_100621.jpg
END:VEVENT
BEGIN:VEVENT
DTSTART;TZID=America/Sao_Paulo:20210610T203000
DTEND;TZID=America/Sao_Paulo:20210610T203000
DTSTAMP:20260422T213049
CREATED:20210607T194623Z
LAST-MODIFIED:20210607T194623Z
UID:17510-1623357000-1623357000@agendadovinho.com.br
SUMMARY:Menu Dia dos Namorados
DESCRIPTION:10/jun – 20:30 \n
URL:https://agendadovinho.com.br/event/menu-dia-dos-namorados/
LOCATION:Instagram
CATEGORIES:Curso técnico,Online
ATTACH;FMTTYPE=image/jpeg:https://agendadovinho.com.br/wp-content/uploads/2021/06/beaba_wine_100621.jpg
END:VEVENT
END:VCALENDAR