BEGIN:VCALENDAR
VERSION:2.0
PRODID:-//Agenda do Vinho - ECPv4.9.0//NONSGML v1.0//EN
CALSCALE:GREGORIAN
METHOD:PUBLISH
X-WR-CALNAME:Agenda do Vinho
X-ORIGINAL-URL:https://agendadovinho.com.br
X-WR-CALDESC:Eventos para Agenda do Vinho
BEGIN:VEVENT
DTSTART;TZID=America/Sao_Paulo:20210606T193000
DTEND;TZID=America/Sao_Paulo:20210606T203000
DTSTAMP:20260422T212957
CREATED:20210517T171032Z
LAST-MODIFIED:20210517T171032Z
UID:17442-1623007800-1623011400@agendadovinho.com.br
SUMMARY:Tour Virtual - O Dia Nacional do Vinho
DESCRIPTION:06/jun – 19:30 \n
URL:https://agendadovinho.com.br/event/tour-virtual-o-dia-nacional-do-vinho/
LOCATION:Vídeo conferência
CATEGORIES:Curso técnico,Online
ATTACH;FMTTYPE=image/jpeg:https://agendadovinho.com.br/wp-content/uploads/2021/05/tour-virtual_060621.jpg
END:VEVENT
END:VCALENDAR