BEGIN:VCALENDAR
VERSION:2.0
PRODID:-//Agenda do Vinho - ECPv4.9.0//NONSGML v1.0//EN
CALSCALE:GREGORIAN
METHOD:PUBLISH
X-WR-CALNAME:Agenda do Vinho
X-ORIGINAL-URL:https://agendadovinho.com.br
X-WR-CALDESC:Eventos para Agenda do Vinho
BEGIN:VEVENT
DTSTART;TZID=America/Sao_Paulo:20210601T193000
DTEND;TZID=America/Sao_Paulo:20210601T193000
DTSTAMP:20260422T213019
CREATED:20210531T212429Z
LAST-MODIFIED:20210531T212429Z
UID:17502-1622575800-1622575800@agendadovinho.com.br
SUMMARY:Live Empório Santa Clarita
DESCRIPTION:01/jun – 19:30 \n
URL:https://agendadovinho.com.br/event/live-emporio-santa-clarita/
LOCATION:Instagram
CATEGORIES:Curso técnico,Online
ATTACH;FMTTYPE=image/jpeg:https://agendadovinho.com.br/wp-content/uploads/2021/05/emporiosantaclarita_010621.jpg
END:VEVENT
END:VCALENDAR