BEGIN:VCALENDAR
VERSION:2.0
PRODID:-//Agenda do Vinho - ECPv4.9.0//NONSGML v1.0//EN
CALSCALE:GREGORIAN
METHOD:PUBLISH
X-WR-CALNAME:Agenda do Vinho
X-ORIGINAL-URL:https://agendadovinho.com.br
X-WR-CALDESC:Eventos para Agenda do Vinho
BEGIN:VEVENT
DTSTART;TZID=America/Sao_Paulo:20210527T190000
DTEND;TZID=America/Sao_Paulo:20210527T223000
DTSTAMP:20260422T230014
CREATED:20210517T171037Z
LAST-MODIFIED:20210517T171037Z
UID:17443-1622142000-1622154600@agendadovinho.com.br
SUMMARY:Harmonização: Queijos e Vinhos
DESCRIPTION:27/mai – 19:00 \n
URL:https://agendadovinho.com.br/event/harmonizacao-queijos-e-vinhos-2/
LOCATION:Oficina Culinária Floripa\, Avenida Buriti\, 207\, Florianópolis\, SC\, 88034-500\, Brasil
CATEGORIES:Curso técnico,SC - Florianópolis
ATTACH;FMTTYPE=image/jpeg:https://agendadovinho.com.br/wp-content/uploads/2021/05/harmonização_270521.jpg
END:VEVENT
BEGIN:VEVENT
DTSTART;TZID=America/Sao_Paulo:20210527T190000
DTEND;TZID=America/Sao_Paulo:20210527T190000
DTSTAMP:20260422T230014
CREATED:20210525T204731Z
LAST-MODIFIED:20210525T204731Z
UID:17481-1622142000-1622142000@agendadovinho.com.br
SUMMARY:Degustação harmonizada de comida árabe e vinhos
DESCRIPTION:27/mai – 19:00 \n
URL:https://agendadovinho.com.br/event/degustacao-harmonizada-de-comida-arabe-e-vinhos/
LOCATION:Zaytún Lebanese Food\, R. Comendador Miguel Calfat\, 398 - Vila Nova Conceição\, São Paulo\, SP\, 04537-081\, Brasil
CATEGORIES:Degustação,SP - São Paulo
ATTACH;FMTTYPE=image/jpeg:https://agendadovinho.com.br/wp-content/uploads/2021/05/ishtarwinebrasil_270521.jpg
END:VEVENT
BEGIN:VEVENT
DTSTART;TZID=America/Sao_Paulo:20210527T193000
DTEND;TZID=America/Sao_Paulo:20210527T213000
DTSTAMP:20260422T230014
CREATED:20210503T191543Z
LAST-MODIFIED:20210503T191543Z
UID:17411-1622143800-1622151000@agendadovinho.com.br
SUMMARY:1º ENCONTRO ABS ONLINE - APRENDA & DEGUSTE - VINHOS DO PORTO
DESCRIPTION:27/mai – 19:30 \n
URL:https://agendadovinho.com.br/event/1o-encontro-abs-online-aprenda-deguste-vinhos-do-porto/
LOCATION:Vídeo conferência\, SC
CATEGORIES:Curso técnico,Online
ATTACH;FMTTYPE=image/jpeg:https://agendadovinho.com.br/wp-content/uploads/2021/05/abs_sc_270521.jpg
END:VEVENT
END:VCALENDAR