BEGIN:VCALENDAR
VERSION:2.0
PRODID:-//Agenda do Vinho - ECPv4.9.0//NONSGML v1.0//EN
CALSCALE:GREGORIAN
METHOD:PUBLISH
X-WR-CALNAME:Agenda do Vinho
X-ORIGINAL-URL:https://agendadovinho.com.br
X-WR-CALDESC:Eventos para Agenda do Vinho
BEGIN:VEVENT
DTSTART;TZID=America/Sao_Paulo:20210525T200300
DTEND;TZID=America/Sao_Paulo:20210525T200300
DTSTAMP:20260422T225952
CREATED:20210525T204735Z
LAST-MODIFIED:20210525T204735Z
UID:17482-1621972980-1621972980@agendadovinho.com.br
SUMMARY:Chile & degustação de vinho
DESCRIPTION:25/mai – 20:03 \n
URL:https://agendadovinho.com.br/event/chile-degustacao-de-vinho/
LOCATION:Instagram
CATEGORIES:Curso técnico,Online
ATTACH;FMTTYPE=image/jpeg:https://agendadovinho.com.br/wp-content/uploads/2021/05/maisquevinhos_deialima_250521.jpg
END:VEVENT
BEGIN:VEVENT
DTSTART;TZID=America/Sao_Paulo:20210525T203000
DTEND;TZID=America/Sao_Paulo:20210525T203000
DTSTAMP:20260422T225952
CREATED:20210525T210124Z
LAST-MODIFIED:20210525T210124Z
UID:17488-1621974600-1621974600@agendadovinho.com.br
SUMMARY:Harmonização\, comida e cultura
DESCRIPTION:25/mai – 20:30 \n
URL:https://agendadovinho.com.br/event/harmonizacao-comida-e-cultura/
LOCATION:Instagram
CATEGORIES:Curso técnico,Online
ATTACH;FMTTYPE=image/jpeg:https://agendadovinho.com.br/wp-content/uploads/2021/05/selorpwine_250521.jpg
END:VEVENT
END:VCALENDAR