BEGIN:VCALENDAR
VERSION:2.0
PRODID:-//Agenda do Vinho - ECPv4.9.0//NONSGML v1.0//EN
CALSCALE:GREGORIAN
METHOD:PUBLISH
X-WR-CALNAME:Agenda do Vinho
X-ORIGINAL-URL:https://agendadovinho.com.br
X-WR-CALDESC:Eventos para Agenda do Vinho
BEGIN:VEVENT
DTSTART;TZID=America/Sao_Paulo:20210519T200000
DTEND;TZID=America/Sao_Paulo:20210519T220000
DTSTAMP:20260422T225952
CREATED:20210510T150312Z
LAST-MODIFIED:20210510T150312Z
UID:17420-1621454400-1621461600@agendadovinho.com.br
SUMMARY:O Beabá do Vinho
DESCRIPTION:19/mai – 20:00 \n
URL:https://agendadovinho.com.br/event/o-beaba-do-vinho/
LOCATION:Vídeo conferência
CATEGORIES:Curso técnico,Online
ATTACH;FMTTYPE=image/png:https://agendadovinho.com.br/wp-content/uploads/2021/05/beaba-do-vinho_190521.png
END:VEVENT
BEGIN:VEVENT
DTSTART;TZID=America/Sao_Paulo:20210519T210000
DTEND;TZID=America/Sao_Paulo:20210519T210000
DTSTAMP:20260422T225952
CREATED:20210518T142439Z
LAST-MODIFIED:20210518T142439Z
UID:17476-1621458000-1621458000@agendadovinho.com.br
SUMMARY:Vinho Libanês - Ishtar Wine
DESCRIPTION:19/mai – 21:00 \n
URL:https://agendadovinho.com.br/event/vinho-libanes-ishtar-wine/
LOCATION:Instagram
CATEGORIES:Curso técnico,Online
ATTACH;FMTTYPE=image/jpeg:https://agendadovinho.com.br/wp-content/uploads/2021/05/viiwine_vinho_190521.jpg
END:VEVENT
END:VCALENDAR