BEGIN:VCALENDAR
VERSION:2.0
PRODID:-//Agenda do Vinho - ECPv4.9.0//NONSGML v1.0//EN
CALSCALE:GREGORIAN
METHOD:PUBLISH
X-WR-CALNAME:Agenda do Vinho
X-ORIGINAL-URL:https://agendadovinho.com.br
X-WR-CALDESC:Eventos para Agenda do Vinho
BEGIN:VEVENT
DTSTART;TZID=America/Sao_Paulo:20210515T090000
DTEND;TZID=America/Sao_Paulo:20210515T090000
DTSTAMP:20260422T230109
CREATED:20190730T182854Z
LAST-MODIFIED:20210203T153153Z
UID:6226-1621069200-1621069200@agendadovinho.com.br
SUMMARY:Wine Run Brasil
DESCRIPTION:Wine Run Brasil\nBento Gonçalves – RS | 15/05/2021 \n
URL:https://agendadovinho.com.br/event/wine-run-brasil-2020/
LOCATION:Vinícola Gran Legado\, Linha Leopoldina\, s/n\, Bento Gonçalves\, RS\, 95700-000\, Brasil
CATEGORIES:Outros,RS - Demais cidades
ATTACH;FMTTYPE=image/png:https://agendadovinho.com.br/wp-content/uploads/2019/07/winerunbrasil_071120.png
END:VEVENT
BEGIN:VEVENT
DTSTART;TZID=America/Sao_Paulo:20210515T140000
DTEND;TZID=America/Sao_Paulo:20210515T173000
DTSTAMP:20260422T230109
CREATED:20191201T224343Z
LAST-MODIFIED:20200804T142306Z
UID:10010-1621087200-1621099800@agendadovinho.com.br
SUMMARY:Vitis Mundi 2021 (Período 1 das 14h às 17h30)
DESCRIPTION:\n\n\n\n\n\nO Mundo do Vinho sem Fronteiras\n\n\n\n\n\n\n\n\n\n\n\n\nO Vitis Mundi\, tem como objetivo reunir em Campinas/SP empresas e profissionais do segmento com o intuito de promover e estimular o consumo prazeroso do vinho. Uma excelente oportunidade para o público que tem acesso a rótulos especiais para degustação e compra\, apresentados por produtores\, importadores e distribuidores segmentados por regiões dos principais países produtores (Novo e Velho Mundo)\, proporcionando assim uma melhor percepção das características dos vinhos. \nAlém disso\, o Vitis Mundi conta com espaço Vinum Sapiens onde acontecem palestras  apresentadas por profissionais do setor  com temas específicos de interesse para o público apaixonado por vinho. \nOutro destaque é o Vinum Selection\, avaliação dividida em 2 macro categorias\, que premiarão os melhores vinhos (Tinto\, Branco\, Rosé e Espumante) do Velho Mundo e Novo Mundo. \nPara 2020 o Vitis Mundi trará duas novidades: \nA primeira é o Simpósio “Brasil e as duas faces do vinho”\, que abordará as formas de produção de vinhos no Brasil\, apresentado por enólogos e especialistas em vinhos. \nA segunda é o BTE Vitis Mundi (Blind Taste Experience)\, uma degustação às cegas com vinhos que são ícones  e serão apresentados de uma forma exclusiva por profissionais das importadoras ou vinicolas. \n\n\nO acesso para o Vitis Mundi é realizado através da compra de ingresso online\, de acordo com a sessão escolhida na hora da compra: \nPeríodo 1 das 14h às 17h30  \n\n\n\n\n\n\n\n\n
URL:https://agendadovinho.com.br/event/vitis-mundi-2020-periodo-1-das-14h-as-17h30/
LOCATION:Vitória Hotel Concept Campinas\, Av. José de Souza Campos\, 425 - Nova Campinas\, Campinas - SP\, 13025-320\, Campinas\, SP\, 13025-320\, Brasil
CATEGORIES:Degustação,SP - Demais cidades
ATTACH;FMTTYPE=image/jpeg:https://agendadovinho.com.br/wp-content/uploads/2019/12/vitis-mundi_160520.jpg
END:VEVENT
BEGIN:VEVENT
DTSTART;TZID=America/Sao_Paulo:20210515T150000
DTEND;TZID=America/Sao_Paulo:20210515T154500
DTSTAMP:20260422T230109
CREATED:20200108T191538Z
LAST-MODIFIED:20200804T142823Z
UID:10470-1621090800-1621093500@agendadovinho.com.br
SUMMARY:Palestra: Vinhos da Alemanha: Riesling\, Pinot & Co. - Desmistificando as Classificações
DESCRIPTION:Palestra Vinhos da Alemanha: Riesling\, Pinot & Co. Desmistificando as Classificações\ncom Michael Schütte – Importadora Vindame \nA Palestra terá 40 minutos de duração\, sendo 25 minutos de apresentação e 15 de degustação. \n  \n
URL:https://agendadovinho.com.br/event/palestra-vinhos-da-alemanha-riesling-pinot-co-desmistificando-as-classificacoes/
LOCATION:Vitória Hotel Concept Campinas\, Av. José de Souza Campos\, 425 - Nova Campinas\, Campinas - SP\, 13025-320\, Campinas\, SP\, 13025-320\, Brasil
CATEGORIES:Curso técnico,SP - Demais cidades
ATTACH;FMTTYPE=image/jpeg:https://agendadovinho.com.br/wp-content/uploads/2020/01/vinhos-da-alemanha_160520.jpg
END:VEVENT
BEGIN:VEVENT
DTSTART;TZID=America/Sao_Paulo:20210515T161500
DTEND;TZID=America/Sao_Paulo:20210515T170000
DTSTAMP:20260422T230109
CREATED:20200108T191545Z
LAST-MODIFIED:20200804T142718Z
UID:10471-1621095300-1621098000@agendadovinho.com.br
SUMMARY:Palestra: Vinhos da Puglia
DESCRIPTION:Palestra Vinhos da Puglia\ncom Alessandro Moretti – Paraju Vinhos \nA Palestra terá 40 minutos de duração\, sendo 25 minutos de apresentação e 15 de degustação. \n  \n
URL:https://agendadovinho.com.br/event/palestra-vinhos-da-puglia/
LOCATION:Vitória Hotel Concept Campinas\, Av. José de Souza Campos\, 425 - Nova Campinas\, Campinas - SP\, 13025-320\, Campinas\, SP\, 13025-320\, Brasil
CATEGORIES:Curso técnico,SP - Demais cidades
ATTACH;FMTTYPE=image/jpeg:https://agendadovinho.com.br/wp-content/uploads/2020/01/vinhos-da-puglia_160520.jpg
END:VEVENT
BEGIN:VEVENT
DTSTART;TZID=America/Sao_Paulo:20210515T180000
DTEND;TZID=America/Sao_Paulo:20210515T213000
DTSTAMP:20260422T230109
CREATED:20191201T224446Z
LAST-MODIFIED:20200804T142624Z
UID:10011-1621101600-1621114200@agendadovinho.com.br
SUMMARY:Vitis Mundi 2021 (Período 2 das 18h às 21h30)
DESCRIPTION:\n\n\n\n\n\nO Mundo do Vinho sem Fronteiras\n\n\n\n\n\n\n\n\n\n\n\n\nO Vitis Mundi\, tem como objetivo reunir em Campinas/SP empresas e profissionais do segmento com o intuito de promover e estimular o consumo prazeroso do vinho. Uma excelente oportunidade para o público que tem acesso a rótulos especiais para degustação e compra\, apresentados por produtores\, importadores e distribuidores segmentados por regiões dos principais países produtores (Novo e Velho Mundo)\, proporcionando assim uma melhor percepção das características dos vinhos. \nAlém disso\, o Vitis Mundi conta com espaço Vinum Sapiens onde acontecem palestras  apresentadas por profissionais do setor  com temas específicos de interesse para o público apaixonado por vinho. \nOutro destaque é o Vinum Selection\, avaliação dividida em 2 macro categorias\, que premiarão os melhores vinhos (Tinto\, Branco\, Rosé e Espumante) do Velho Mundo e Novo Mundo. \nPara 2020 o Vitis Mundi trará duas novidades: \nA primeira é o Simpósio “Brasil e as duas faces do vinho”\, que abordará as formas de produção de vinhos no Brasil\, apresentado por enólogos e especialistas em vinhos. \nA segunda é o BTE Vitis Mundi (Blind Taste Experience)\, uma degustação às cegas com vinhos que são ícones  e serão apresentados de uma forma exclusiva por profissionais das importadoras ou vinicolas. \nO acesso para o Vitis Mundi é realizado através da compra de ingresso online\, de acordo com a sessão escolhida na hora da compra: \n\n\nPeríodo 2 das 18h às 21h30  \n\n\n\n\n\n\n\n\n
URL:https://agendadovinho.com.br/event/vitis-mundi-2020-periodo-2-das-18h-as-21h30/
LOCATION:Vitória Hotel Concept Campinas\, Av. José de Souza Campos\, 425 - Nova Campinas\, Campinas - SP\, 13025-320\, Campinas\, SP\, 13025-320\, Brasil
CATEGORIES:Degustação,SP - Demais cidades
ATTACH;FMTTYPE=image/jpeg:https://agendadovinho.com.br/wp-content/uploads/2019/12/vitis-mundi_160520_2.jpg
END:VEVENT
BEGIN:VEVENT
DTSTART;TZID=America/Sao_Paulo:20210515T190000
DTEND;TZID=America/Sao_Paulo:20210515T194500
DTSTAMP:20260422T230109
CREATED:20200108T191708Z
LAST-MODIFIED:20200804T142444Z
UID:10472-1621105200-1621107900@agendadovinho.com.br
SUMMARY:Vinhos da Bourgogne
DESCRIPTION:Palestra Vinhos da Bourgogne\ncom Ana Maria Zanier – Anima Vinum Brasil \nA Palestra terá 40 minutos de duração\, sendo 25 minutos de apresentação e 15 de degustação. \n  \n
URL:https://agendadovinho.com.br/event/vinhos-da-bourgogne/
LOCATION:Vitória Hotel Concept Campinas\, Av. José de Souza Campos\, 425 - Nova Campinas\, Campinas - SP\, 13025-320\, Campinas\, SP\, 13025-320\, Brasil
CATEGORIES:Curso técnico,SP - Demais cidades
ATTACH;FMTTYPE=image/jpeg:https://agendadovinho.com.br/wp-content/uploads/2020/01/vinhos-da-bourgogne_160520.jpg
END:VEVENT
END:VCALENDAR