BEGIN:VCALENDAR
VERSION:2.0
PRODID:-//Agenda do Vinho - ECPv4.9.0//NONSGML v1.0//EN
CALSCALE:GREGORIAN
METHOD:PUBLISH
X-WR-CALNAME:Agenda do Vinho
X-ORIGINAL-URL:https://agendadovinho.com.br
X-WR-CALDESC:Eventos para Agenda do Vinho
BEGIN:VEVENT
DTSTART;TZID=America/Sao_Paulo:20210506T193000
DTEND;TZID=America/Sao_Paulo:20210506T210000
DTSTAMP:20260422T225833
CREATED:20210419T141612Z
LAST-MODIFIED:20210419T141640Z
UID:17358-1620329400-1620334800@agendadovinho.com.br
SUMMARY:VINHOS B.O.N.S. (BIODINÂMICOS\, ORGÂNICOS\, NATURAIS E SUSTENTÁVEIS)
DESCRIPTION:06/mai – 19:30 \n
URL:https://agendadovinho.com.br/event/vinhos-b-o-n-s-biodinamicos-organicos-naturais-e-sustentaveis/
LOCATION:Vídeo conferência
CATEGORIES:Curso técnico,Online
ATTACH;FMTTYPE=image/png:https://agendadovinho.com.br/wp-content/uploads/2021/04/vinhos-bons_060521.png
END:VEVENT
END:VCALENDAR