BEGIN:VCALENDAR
VERSION:2.0
PRODID:-//Agenda do Vinho - ECPv4.9.0//NONSGML v1.0//EN
CALSCALE:GREGORIAN
METHOD:PUBLISH
X-WR-CALNAME:Agenda do Vinho
X-ORIGINAL-URL:https://agendadovinho.com.br
X-WR-CALDESC:Eventos para Agenda do Vinho
BEGIN:VEVENT
DTSTART;TZID=America/Sao_Paulo:20210505T190000
DTEND;TZID=America/Sao_Paulo:20210505T190000
DTSTAMP:20260422T225908
CREATED:20210419T145833Z
LAST-MODIFIED:20210419T145833Z
UID:17392-1620241200-1620241200@agendadovinho.com.br
SUMMARY:Educadores\, cultura\, vinho e arte
DESCRIPTION:05/mai – 19:00 \n
URL:https://agendadovinho.com.br/event/educadores-cultura-vinho-e-arte/
LOCATION:Instagram
CATEGORIES:Curso técnico,Online
ATTACH;FMTTYPE=image/jpeg:https://agendadovinho.com.br/wp-content/uploads/2021/04/ffescoladevinho_050521.jpg
END:VEVENT
END:VCALENDAR