BEGIN:VCALENDAR
VERSION:2.0
PRODID:-//Agenda do Vinho - ECPv4.9.0//NONSGML v1.0//EN
CALSCALE:GREGORIAN
METHOD:PUBLISH
X-WR-CALNAME:Agenda do Vinho
X-ORIGINAL-URL:https://agendadovinho.com.br
X-WR-CALDESC:Eventos para Agenda do Vinho
BEGIN:VEVENT
DTSTART;TZID=America/Sao_Paulo:20210429T183000
DTEND;TZID=America/Sao_Paulo:20210429T213000
DTSTAMP:20260422T225830
CREATED:20210412T141505Z
LAST-MODIFIED:20210412T141505Z
UID:17336-1619721000-1619731800@agendadovinho.com.br
SUMMARY:Happy Wine Class
DESCRIPTION:29/abr – 18:30 \n
URL:https://agendadovinho.com.br/event/happy-wine-class/
LOCATION:Youtube
CATEGORIES:Curso técnico,Online
ATTACH;FMTTYPE=image/jpeg:https://agendadovinho.com.br/wp-content/uploads/2021/04/happy-wine-class_290421.jpg
END:VEVENT
END:VCALENDAR