BEGIN:VCALENDAR
VERSION:2.0
PRODID:-//Agenda do Vinho - ECPv4.9.0//NONSGML v1.0//EN
CALSCALE:GREGORIAN
METHOD:PUBLISH
X-WR-CALNAME:Agenda do Vinho
X-ORIGINAL-URL:https://agendadovinho.com.br
X-WR-CALDESC:Eventos para Agenda do Vinho
BEGIN:VEVENT
DTSTART;TZID=America/Sao_Paulo:20210427T200000
DTEND;TZID=America/Sao_Paulo:20210427T200000
DTSTAMP:20260422T225828
CREATED:20210412T145655Z
LAST-MODIFIED:20210412T145655Z
UID:17341-1619553600-1619553600@agendadovinho.com.br
SUMMARY:Espanha e suas principais regiões
DESCRIPTION:27/abr – 20:00 \n
URL:https://agendadovinho.com.br/event/espanha-e-suas-principais-regioes-2/
LOCATION:Vídeo conferência
CATEGORIES:Curso técnico,Online
ATTACH;FMTTYPE=image/jpeg:https://agendadovinho.com.br/wp-content/uploads/2021/04/duvalewinetasting_270421.jpg
END:VEVENT
BEGIN:VEVENT
DTSTART;TZID=America/Sao_Paulo:20210427T200000
DTEND;TZID=America/Sao_Paulo:20210427T200000
DTSTAMP:20260422T225828
CREATED:20210426T152127Z
LAST-MODIFIED:20210426T152127Z
UID:17404-1619553600-1619553600@agendadovinho.com.br
SUMMARY:Champagne e a Moët&Chandon\, sinônimo de qualidade e consistência
DESCRIPTION:27/abr – 20:00 \n
URL:https://agendadovinho.com.br/event/champagne-e-a-moetchandon-sinonimo-de-qualidade-e-consistencia/
LOCATION:Instagram
CATEGORIES:Curso técnico,Online
ATTACH;FMTTYPE=image/jpeg:https://agendadovinho.com.br/wp-content/uploads/2021/04/abs_pe_270421.jpg
END:VEVENT
BEGIN:VEVENT
DTSTART;TZID=America/Sao_Paulo:20210427T203000
DTEND;TZID=America/Sao_Paulo:20210427T203000
DTSTAMP:20260422T225828
CREATED:20210426T152121Z
LAST-MODIFIED:20210426T152121Z
UID:17403-1619555400-1619555400@agendadovinho.com.br
SUMMARY:Vinícola Ulian
DESCRIPTION:27/abr – 20:30 \n
URL:https://agendadovinho.com.br/event/vinicola-ulian/
LOCATION:Instagram
CATEGORIES:Curso técnico,Online
ATTACH;FMTTYPE=image/jpeg:https://agendadovinho.com.br/wp-content/uploads/2021/04/fracarowine_270421.jpg
END:VEVENT
END:VCALENDAR