BEGIN:VCALENDAR
VERSION:2.0
PRODID:-//Agenda do Vinho - ECPv4.9.0//NONSGML v1.0//EN
CALSCALE:GREGORIAN
METHOD:PUBLISH
X-WR-CALNAME:Agenda do Vinho
X-ORIGINAL-URL:https://agendadovinho.com.br
X-WR-CALDESC:Eventos para Agenda do Vinho
BEGIN:VEVENT
DTSTART;TZID=America/Sao_Paulo:20210424T160000
DTEND;TZID=America/Sao_Paulo:20210424T170000
DTSTAMP:20260423T002335
CREATED:20210419T141554Z
LAST-MODIFIED:20210419T141554Z
UID:17357-1619280000-1619283600@agendadovinho.com.br
SUMMARY:Beabá do Vinho
DESCRIPTION:24/abr – 16:00 \n
URL:https://agendadovinho.com.br/event/beaba-do-vinho/
LOCATION:Vídeo conferência
CATEGORIES:Curso técnico,Online
ATTACH;FMTTYPE=image/png:https://agendadovinho.com.br/wp-content/uploads/2021/04/beaba-do-vinho_240421.png
END:VEVENT
BEGIN:VEVENT
DTSTART;TZID=America/Sao_Paulo:20210424T200000
DTEND;TZID=America/Sao_Paulo:20210424T200000
DTSTAMP:20260423T002335
CREATED:20210419T145156Z
LAST-MODIFIED:20210419T145156Z
UID:17372-1619294400-1619294400@agendadovinho.com.br
SUMMARY:Semana do vinho brasileiro
DESCRIPTION:24/abr – 20:00 \n
URL:https://agendadovinho.com.br/event/semana-do-vinho-brasileiro-4/
LOCATION:Instagram
CATEGORIES:Curso técnico,Online
ATTACH;FMTTYPE=image/jpeg:https://agendadovinho.com.br/wp-content/uploads/2021/04/academiavitis_210421.jpg
END:VEVENT
END:VCALENDAR