BEGIN:VCALENDAR
VERSION:2.0
PRODID:-//Agenda do Vinho - ECPv4.9.0//NONSGML v1.0//EN
CALSCALE:GREGORIAN
METHOD:PUBLISH
X-WR-CALNAME:Agenda do Vinho
X-ORIGINAL-URL:https://agendadovinho.com.br
X-WR-CALDESC:Eventos para Agenda do Vinho
BEGIN:VEVENT
DTSTART;TZID=America/Sao_Paulo:20210421T180000
DTEND;TZID=America/Sao_Paulo:20210421T180000
DTSTAMP:20260423T002338
CREATED:20210419T145846Z
LAST-MODIFIED:20210419T145846Z
UID:17394-1619028000-1619028000@agendadovinho.com.br
SUMMARY:A geada nos vinhedos franceses
DESCRIPTION:21/abr – 18:00 \n
URL:https://agendadovinho.com.br/event/a-geada-nos-vinhedos-franceses/
LOCATION:Instagram
CATEGORIES:Curso técnico,Online
ATTACH;FMTTYPE=image/jpeg:https://agendadovinho.com.br/wp-content/uploads/2021/04/suzanabarelli_210421.jpg
END:VEVENT
BEGIN:VEVENT
DTSTART;TZID=America/Sao_Paulo:20210421T190000
DTEND;TZID=America/Sao_Paulo:20210421T190000
DTSTAMP:20260423T002338
CREATED:20210329T150939Z
LAST-MODIFIED:20210329T150939Z
UID:17315-1619031600-1619031600@agendadovinho.com.br
SUMMARY:Vinhos da Mantiqueira e a Colheita de Inverno
DESCRIPTION:21/abr – 19:00 \n
URL:https://agendadovinho.com.br/event/vinhos-da-mantiqueira-e-a-colheita-de-inverno/
LOCATION:Instagram
CATEGORIES:Curso técnico,Online
ATTACH;FMTTYPE=image/jpeg:https://agendadovinho.com.br/wp-content/uploads/2021/03/ffescoladevinho_210421.jpg
END:VEVENT
BEGIN:VEVENT
DTSTART;TZID=America/Sao_Paulo:20210421T210000
DTEND;TZID=America/Sao_Paulo:20210421T210000
DTSTAMP:20260423T002338
CREATED:20210419T145144Z
LAST-MODIFIED:20210419T145144Z
UID:17369-1619038800-1619038800@agendadovinho.com.br
SUMMARY:Semana do vinho brasileiro
DESCRIPTION:21/abr – 20:00 \n
URL:https://agendadovinho.com.br/event/semana-do-vinho-brasileiro/
LOCATION:Instagram
CATEGORIES:Curso técnico,Online
ATTACH;FMTTYPE=image/jpeg:https://agendadovinho.com.br/wp-content/uploads/2021/04/academiavitis_210421.jpg
END:VEVENT
END:VCALENDAR