BEGIN:VCALENDAR
VERSION:2.0
PRODID:-//Agenda do Vinho - ECPv4.9.0//NONSGML v1.0//EN
CALSCALE:GREGORIAN
METHOD:PUBLISH
X-WR-CALNAME:Agenda do Vinho
X-ORIGINAL-URL:https://agendadovinho.com.br
X-WR-CALDESC:Eventos para Agenda do Vinho
BEGIN:VEVENT
DTSTART;TZID=America/Sao_Paulo:20210420T200000
DTEND;TZID=America/Sao_Paulo:20210420T200000
DTSTAMP:20260423T002336
CREATED:20210419T145105Z
LAST-MODIFIED:20210419T145105Z
UID:17368-1618948800-1618948800@agendadovinho.com.br
SUMMARY:Vinho em prosa
DESCRIPTION:20/abr – 20:00 \n
URL:https://agendadovinho.com.br/event/vinho-em-prosa/
LOCATION:Instagram
CATEGORIES:Online,Outros
ATTACH;FMTTYPE=image/jpeg:https://agendadovinho.com.br/wp-content/uploads/2021/04/fracarowine_200421.jpg
END:VEVENT
BEGIN:VEVENT
DTSTART;TZID=America/Sao_Paulo:20210420T200000
DTEND;TZID=America/Sao_Paulo:20210420T200000
DTSTAMP:20260423T002336
CREATED:20210419T145842Z
LAST-MODIFIED:20210419T145842Z
UID:17393-1618948800-1618948800@agendadovinho.com.br
SUMMARY:Dicas de drinks com vinhos e espumantes
DESCRIPTION:20/abr – 20:00 \n
URL:https://agendadovinho.com.br/event/dicas-de-drinks-com-vinhos-e-espumantes/
LOCATION:Instagram
CATEGORIES:Curso técnico,Online
ATTACH;FMTTYPE=image/jpeg:https://agendadovinho.com.br/wp-content/uploads/2021/04/brazucaswinesandbeers_200421.jpg
END:VEVENT
END:VCALENDAR