BEGIN:VCALENDAR
VERSION:2.0
PRODID:-//Agenda do Vinho - ECPv4.9.0//NONSGML v1.0//EN
CALSCALE:GREGORIAN
METHOD:PUBLISH
X-WR-CALNAME:Agenda do Vinho
X-ORIGINAL-URL:https://agendadovinho.com.br
X-WR-CALDESC:Eventos para Agenda do Vinho
BEGIN:VEVENT
DTSTART;TZID=America/Sao_Paulo:20210414T190000
DTEND;TZID=America/Sao_Paulo:20210414T190000
DTSTAMP:20260423T002335
CREATED:20210329T150906Z
LAST-MODIFIED:20210329T150906Z
UID:17314-1618426800-1618426800@agendadovinho.com.br
SUMMARY:Chapada Diamantina: Um novo "terroir"
DESCRIPTION:14/abr – 19:00 \n
URL:https://agendadovinho.com.br/event/chapada-diamantina-um-novo-terroir/
LOCATION:Instagram
CATEGORIES:Curso técnico,Online
ATTACH;FMTTYPE=image/jpeg:https://agendadovinho.com.br/wp-content/uploads/2021/03/ffescoladevinho_140421.jpg
END:VEVENT
BEGIN:VEVENT
DTSTART;TZID=America/Sao_Paulo:20210414T200000
DTEND;TZID=America/Sao_Paulo:20210414T200000
DTSTAMP:20260423T002335
CREATED:20210412T145656Z
LAST-MODIFIED:20210412T145656Z
UID:17342-1618430400-1618430400@agendadovinho.com.br
SUMMARY:11 passos do vinho
DESCRIPTION:14/abr – 20:00 \n
URL:https://agendadovinho.com.br/event/11-passos-do-vinho-5/
LOCATION:Vídeo conferência
CATEGORIES:Curso técnico,Online
ATTACH;FMTTYPE=image/jpeg:https://agendadovinho.com.br/wp-content/uploads/2021/04/duvalewinetasting_140421.jpg
END:VEVENT
END:VCALENDAR