BEGIN:VCALENDAR
VERSION:2.0
PRODID:-//Agenda do Vinho - ECPv4.9.0//NONSGML v1.0//EN
CALSCALE:GREGORIAN
METHOD:PUBLISH
X-WR-CALNAME:Agenda do Vinho
X-ORIGINAL-URL:https://agendadovinho.com.br
X-WR-CALDESC:Eventos para Agenda do Vinho
BEGIN:VEVENT
DTSTART;TZID=America/Sao_Paulo:20210413T200000
DTEND;TZID=America/Sao_Paulo:20210413T200000
DTSTAMP:20260423T002410
CREATED:20210412T145704Z
LAST-MODIFIED:20210412T145704Z
UID:17343-1618344000-1618344000@agendadovinho.com.br
SUMMARY:Vinho solidário
DESCRIPTION:13/abr – 20:00 \n
URL:https://agendadovinho.com.br/event/vinho-solidario/
LOCATION:Instagram
CATEGORIES:Curso técnico,Online
ATTACH;FMTTYPE=image/jpeg:https://agendadovinho.com.br/wp-content/uploads/2021/04/vinhonavila_130421.jpg
END:VEVENT
END:VCALENDAR