BEGIN:VCALENDAR
VERSION:2.0
PRODID:-//Agenda do Vinho - ECPv4.9.0//NONSGML v1.0//EN
CALSCALE:GREGORIAN
METHOD:PUBLISH
X-WR-CALNAME:Agenda do Vinho
X-ORIGINAL-URL:https://agendadovinho.com.br
X-WR-CALDESC:Eventos para Agenda do Vinho
BEGIN:VEVENT
DTSTART;TZID=America/Sao_Paulo:20200325T183000
DTEND;TZID=America/Sao_Paulo:20200325T200000
DTSTAMP:20260425T231118
CREATED:20200229T192616Z
LAST-MODIFIED:20200229T192616Z
UID:11597-1585161000-1585166400@agendadovinho.com.br
SUMMARY:Workshop Vinhos e Conceitos
DESCRIPTION:Em março tem workshop “Vinhos e Conceitos” com o sommelier @getuliosantosdasilva e @pericovinhos no Empório Floriani. Faça sua reserva pelo WhatsApp 47 30550010. Vagas limitadas. \n
URL:https://agendadovinho.com.br/event/workshop-vinhos-e-conceitos/
LOCATION:Empório Floriani\, R. Jorge Czerniewicz\, 99 - sala 7 - Czerniewicz\, Jaraguá do Sul\, SC\, 89255-000\, Brasil
CATEGORIES:Curso técnico,SC - Demais cidades
ATTACH;FMTTYPE=image/jpeg:https://agendadovinho.com.br/wp-content/uploads/2020/02/workshop_250320.jpg
END:VEVENT
END:VCALENDAR