BEGIN:VCALENDAR
VERSION:2.0
PRODID:-//Agenda do Vinho - ECPv4.9.0//NONSGML v1.0//EN
CALSCALE:GREGORIAN
METHOD:PUBLISH
X-WR-CALNAME:Agenda do Vinho
X-ORIGINAL-URL:https://agendadovinho.com.br
X-WR-CALDESC:Eventos para Agenda do Vinho
BEGIN:VEVENT
DTSTART;TZID=America/Sao_Paulo:20190905T193000
DTEND;TZID=America/Sao_Paulo:20190905T220000
DTSTAMP:20260419T130941
CREATED:20190901T152321Z
LAST-MODIFIED:20190901T152321Z
UID:7653-1567711800-1567720800@agendadovinho.com.br
SUMMARY:Workshop Queijos e Vinhos
DESCRIPTION:Próxima quinta vamos ao Chile? Pratos típicos do Chile\, com uma pernambucanidade no preparo e vinhos clássicos das regiões chilenas.\nPróxima quinta (05/09) no Riomar! \nInformações: (81)99156-0112 \n
URL:https://agendadovinho.com.br/event/workshop-queijos-e-vinhos-2/
LOCATION:Campo da Serra – Shopping Rio Mar\, Shopping Rio Mar Avenida República do Líbano\, 251 Piso G1\, Loja 5002 - Pina\, Recife\, PE\, 51110-160\, Brasil
CATEGORIES:Curso técnico,PE - Recife
ATTACH;FMTTYPE=image/jpeg:https://agendadovinho.com.br/wp-content/uploads/2019/09/workshop_050919.jpg
END:VEVENT
END:VCALENDAR