BEGIN:VCALENDAR
VERSION:2.0
PRODID:-//Agenda do Vinho - ECPv4.9.0//NONSGML v1.0//EN
CALSCALE:GREGORIAN
METHOD:PUBLISH
X-WR-CALNAME:Agenda do Vinho
X-ORIGINAL-URL:https://agendadovinho.com.br
X-WR-CALDESC:Eventos para Agenda do Vinho
BEGIN:VEVENT
DTSTART;TZID=America/Sao_Paulo:20200307T140000
DTEND;TZID=America/Sao_Paulo:20200307T180000
DTSTAMP:20260425T214450
CREATED:20200123T135857Z
LAST-MODIFIED:20200123T135857Z
UID:10758-1583589600-1583604000@agendadovinho.com.br
SUMMARY:Workshop Fermentados e Harmonizados
DESCRIPTION:FERMENTADOS E HARMONIZADOS é para conhecedores ou iniciantes tanto em panificação quanto em vinhos\, sem necessidade de experiência prévia.\nPão e vinho: provavelmente a combinação mais antiga que se tem registro. Dois alimentos milenares que passam de geração em geração ganhando mais adeptos e mais sofisticação.\nHarmonizar pão e vinho parece simples mas são infinitas as possibilidades de sabores e aromas\, em resultados surpreendentes!\n
URL:https://agendadovinho.com.br/event/workshop-fermentados-e-harmonizados/
LOCATION:Brindisi Vinhos\, R. Frei Galvão\, 135 - Jardim Paulistano\, São Paulo\, SP\, 01454-060\, Brasil
CATEGORIES:Outros,SP - São Paulo
ATTACH;FMTTYPE=image/png:https://agendadovinho.com.br/wp-content/uploads/2020/01/20190903_085154_0000.png
END:VEVENT
END:VCALENDAR