BEGIN:VCALENDAR
VERSION:2.0
PRODID:-//Agenda do Vinho - ECPv4.9.0//NONSGML v1.0//EN
CALSCALE:GREGORIAN
METHOD:PUBLISH
X-WR-CALNAME:Agenda do Vinho
X-ORIGINAL-URL:https://agendadovinho.com.br
X-WR-CALDESC:Eventos para Agenda do Vinho
BEGIN:VEVENT
DTSTART;TZID=America/Sao_Paulo:20200328T143000
DTEND;TZID=America/Sao_Paulo:20200328T170000
DTSTAMP:20260425T214606
CREATED:20200130T163511Z
LAST-MODIFIED:20200130T163511Z
UID:10927-1585405800-1585414800@agendadovinho.com.br
SUMMARY:Workshop - Degustação de vinhos em Inglês
DESCRIPTION:Aprenda os conceitos essenciais na degustação de vinhos e o vocabulário que você precisa para falar de vinhos nesse workshop feito por amantes de vinhos para amantes de vinhos. \n
URL:https://agendadovinho.com.br/event/workshop-degustacao-de-vinhos-em-ingles/
LOCATION:Brindisi Vinhos\, R. Frei Galvão\, 135 - Jardim Paulistano\, São Paulo\, SP\, 01454-060\, Brasil
CATEGORIES:Curso técnico,SP - São Paulo
ATTACH;FMTTYPE=image/jpeg:https://agendadovinho.com.br/wp-content/uploads/2020/01/degustacao-de-vinhos-em-ingles_280320.jpg
END:VEVENT
END:VCALENDAR