BEGIN:VCALENDAR
VERSION:2.0
PRODID:-//Agenda do Vinho - ECPv4.9.0//NONSGML v1.0//EN
CALSCALE:GREGORIAN
METHOD:PUBLISH
X-WR-CALNAME:Agenda do Vinho
X-ORIGINAL-URL:https://agendadovinho.com.br
X-WR-CALDESC:Eventos para Agenda do Vinho
BEGIN:VEVENT
DTSTART;TZID=America/Sao_Paulo:20200321T190000
DTEND;TZID=America/Sao_Paulo:20200321T220000
DTSTAMP:20260426T013030
CREATED:20200305T173158Z
LAST-MODIFIED:20200305T173158Z
UID:11852-1584817200-1584828000@agendadovinho.com.br
SUMMARY:Workshop de Vinhos: Descobrindo Portugal
DESCRIPTION:Workshop de Vinhos: Descobrindo Portugal – Sommelière Ana Borges – 21-03 sábado – 19h as 22h – R$260\,00\n⠀\nNesta aula descobriremos os vinhos da terrinha\, dos Vinhos Verdes ao Alentejo. Provaremos o que Portugal produz de melhor\, passando pelas principais uvas e regiões. Provaremos 6 vinhos\, harmonizados com um menu do nosso chef\, Caio Soter! \nA SOMMELIÈRE\nAna Borges possui 20 anos de experiência em diversas áreas de Alimentos & Bebidas\, atua como consultora há 10 anos e como professora de sommeliers desde 2012. Possui graduação em Gastronomia e mestrado em Enologia pela URV – Espanha. É sommelière de cervejas pela Academia da Cerveja de Minas Gerais e possui o Diploma da Wine & Spirits Education Trust da Inglaterra. \n
URL:https://agendadovinho.com.br/event/workshop-de-vinhos-descobrindo-portugal/
LOCATION:Alma Chef | Casa de Gastronomia\, R. Curitiba\, 2081\, Belo Horizonte\, MG\, Brasil
CATEGORIES:Curso técnico,MG - Belo Horizonte
ATTACH;FMTTYPE=image/jpeg:https://agendadovinho.com.br/wp-content/uploads/2020/03/workshop_210320.jpg
END:VEVENT
END:VCALENDAR