BEGIN:VCALENDAR
VERSION:2.0
PRODID:-//Agenda do Vinho - ECPv4.9.0//NONSGML v1.0//EN
CALSCALE:GREGORIAN
METHOD:PUBLISH
X-WR-CALNAME:Agenda do Vinho
X-ORIGINAL-URL:https://agendadovinho.com.br
X-WR-CALDESC:Eventos para Agenda do Vinho
BEGIN:VEVENT
DTSTART;TZID=America/Sao_Paulo:20240509T193000
DTEND;TZID=America/Sao_Paulo:20240509T223000
DTSTAMP:20260420T085531
CREATED:20240422T150949Z
LAST-MODIFIED:20240422T150949Z
UID:19955-1715283000-1715293800@agendadovinho.com.br
SUMMARY:WORKSHOP CHAMPAGNES E ESPUMANTES
DESCRIPTION:
URL:https://agendadovinho.com.br/event/workshop-champagnes-e-espumantes/
LOCATION:Casa Mercante\, R. Quinze de Novembro\, 843 - Centro de Vila Velha\, Vila Velha\, ES\, 29100-031\, Brasil
CATEGORIES:Degustação,ES - Demais cidades
ATTACH;FMTTYPE=image/jpeg:https://agendadovinho.com.br/wp-content/uploads/2024/04/workshop-champagnes_090524.jpg
END:VEVENT
END:VCALENDAR