BEGIN:VCALENDAR
VERSION:2.0
PRODID:-//Agenda do Vinho - ECPv4.9.0//NONSGML v1.0//EN
CALSCALE:GREGORIAN
METHOD:PUBLISH
X-WR-CALNAME:Agenda do Vinho
X-ORIGINAL-URL:https://agendadovinho.com.br
X-WR-CALDESC:Eventos para Agenda do Vinho
BEGIN:VEVENT
DTSTART;TZID=America/Sao_Paulo:20200212T193000
DTEND;TZID=America/Sao_Paulo:20200212T220000
DTSTAMP:20260426T004755
CREATED:20200123T135832Z
LAST-MODIFIED:20200205T233623Z
UID:10756-1581535800-1581544800@agendadovinho.com.br
SUMMARY:Workshop Ceviche e Vinhos
DESCRIPTION:A proposta do nosso Workshop de Ceviche é bem simples:\nEnsinamos você a fazer a base do Ceviche e também damos uma noção sobre vinhos e harmonização.\nVocê vai aprender sobre “os porquês” de certas combinações deste famoso exemplar da culinária mundial\, aprenderá o que compor e porque compor com certos ingredientes\, todos disponíveis em nosso curso e na elaboração do prato\, onde cada participante fará o seu próprio ceviche.\nE para isto decidimos pela elaboração de dois tipos de Ceviche:\nO Ceviche Tradicional com peixe branco\, leite de tigre\, base para qualquer ideia de implementação de novas receitas e o Ceviche de Salmão\, onde aprenderemos como compor também este delicioso peixe em uma versão prática e interessante.\n
URL:https://agendadovinho.com.br/event/workshop-ceviche-e-vinhos/
LOCATION:Brindisi Vinhos\, R. Frei Galvão\, 135 - Jardim Paulistano\, São Paulo\, SP\, 01454-060\, Brasil
CATEGORIES:Outros,SP - São Paulo
ATTACH;FMTTYPE=image/png:https://agendadovinho.com.br/wp-content/uploads/2020/01/20200108_121230.png
END:VEVENT
END:VCALENDAR