BEGIN:VCALENDAR
VERSION:2.0
PRODID:-//Agenda do Vinho - ECPv4.9.0//NONSGML v1.0//EN
CALSCALE:GREGORIAN
METHOD:PUBLISH
X-WR-CALNAME:Agenda do Vinho
X-ORIGINAL-URL:https://agendadovinho.com.br
X-WR-CALDESC:Eventos para Agenda do Vinho
BEGIN:VEVENT
DTSTART;TZID=America/Sao_Paulo:20210804T143000
DTEND;TZID=America/Sao_Paulo:20210804T203000
DTSTAMP:20260424T094257
CREATED:20210802T203313Z
LAST-MODIFIED:20210802T203313Z
UID:17678-1628087400-1628109000@agendadovinho.com.br
SUMMARY:Wines of Chile
DESCRIPTION:04/ago – 14:30 \n
URL:https://agendadovinho.com.br/event/wines-of-chile-2/
LOCATION:Youtube
CATEGORIES:Curso técnico,Online
ATTACH;FMTTYPE=image/jpeg:https://agendadovinho.com.br/wp-content/uploads/2021/08/wines-of-chile_030821.jpg
END:VEVENT
END:VCALENDAR