BEGIN:VCALENDAR
VERSION:2.0
PRODID:-//Agenda do Vinho - ECPv4.9.0//NONSGML v1.0//EN
CALSCALE:GREGORIAN
METHOD:PUBLISH
X-WR-CALNAME:Agenda do Vinho
X-ORIGINAL-URL:https://agendadovinho.com.br
X-WR-CALDESC:Eventos para Agenda do Vinho
BEGIN:VEVENT
DTSTART;TZID=America/Sao_Paulo:20200824T180000
DTEND;TZID=America/Sao_Paulo:20200824T180000
DTSTAMP:20260425T151820
CREATED:20200823T140747Z
LAST-MODIFIED:20200823T140747Z
UID:15777-1598292000-1598292000@agendadovinho.com.br
SUMMARY:Winebar: uma forma de democratizar o vinho
DESCRIPTION:24/ago – 18:00 \n
URL:https://agendadovinho.com.br/event/winebar-uma-forma-de-democratizar-o-vinho/
LOCATION:Instagram
CATEGORIES:Curso técnico,Online
ATTACH;FMTTYPE=image/jpeg:https://agendadovinho.com.br/wp-content/uploads/2020/08/pro_vinho_br_240820.jpg
END:VEVENT
END:VCALENDAR