BEGIN:VCALENDAR
VERSION:2.0
PRODID:-//Agenda do Vinho - ECPv4.9.0//NONSGML v1.0//EN
CALSCALE:GREGORIAN
METHOD:PUBLISH
X-WR-CALNAME:Agenda do Vinho
X-ORIGINAL-URL:https://agendadovinho.com.br
X-WR-CALDESC:Eventos para Agenda do Vinho
BEGIN:VEVENT
DTSTART;TZID=America/Sao_Paulo:20200328T190000
DTEND;TZID=America/Sao_Paulo:20200328T230000
DTSTAMP:20260425T165024
CREATED:20200312T180339Z
LAST-MODIFIED:20200312T180339Z
UID:12095-1585422000-1585436400@agendadovinho.com.br
SUMMARY:Wine Tasting
DESCRIPTION:A Le Vin\, convida para uma deliciosa noite de lançamento e degustação dos vinhos Argentinos da premiada Bodega Finca El Origem. Logo após a degustação técnica dos vinhos será servido um delicioso jantar. \n
URL:https://agendadovinho.com.br/event/wine-tasting-4/
LOCATION:Restaurante Trofi\, R. Des. Pedro Silva\, 1830 - Coqueiros\, Florianópolis\, SC\, 88080-700\, Brasil
CATEGORIES:Degustação,SC - Florianópolis
ATTACH;FMTTYPE=image/png:https://agendadovinho.com.br/wp-content/uploads/2020/03/wine-tasting_280320.png
END:VEVENT
END:VCALENDAR