BEGIN:VCALENDAR
VERSION:2.0
PRODID:-//Agenda do Vinho - ECPv4.9.0//NONSGML v1.0//EN
CALSCALE:GREGORIAN
METHOD:PUBLISH
X-WR-CALNAME:Agenda do Vinho
X-ORIGINAL-URL:https://agendadovinho.com.br
X-WR-CALDESC:Eventos para Agenda do Vinho
BEGIN:VEVENT
DTSTART;TZID=America/Sao_Paulo:20240314T190000
DTEND;TZID=America/Sao_Paulo:20240314T190000
DTSTAMP:20260420T131937
CREATED:20240221T180312Z
LAST-MODIFIED:20240221T180312Z
UID:19290-1710442800-1710442800@agendadovinho.com.br
SUMMARY:Wine Patrick's Day
DESCRIPTION:
URL:https://agendadovinho.com.br/event/wine-patricks-day/
LOCATION:Ser Vinno\, Alameda das Cajazeiras\, 482c - Caminho das Árvores\, Salvador\, BA\, 41820-690\, Brasil
CATEGORIES:BA - Salvador,Outros
ATTACH;FMTTYPE=image/jpeg:https://agendadovinho.com.br/wp-content/uploads/2024/02/wine-patricks-day_140324.jpg
END:VEVENT
END:VCALENDAR