BEGIN:VCALENDAR
VERSION:2.0
PRODID:-//Agenda do Vinho - ECPv4.9.0//NONSGML v1.0//EN
CALSCALE:GREGORIAN
METHOD:PUBLISH
X-WR-CALNAME:Agenda do Vinho
X-ORIGINAL-URL:https://agendadovinho.com.br
X-WR-CALDESC:Eventos para Agenda do Vinho
BEGIN:VEVENT
DTSTART;TZID=UTC-3:20190418T190000
DTEND;TZID=UTC-3:20190418T210000
DTSTAMP:20260419T180906
CREATED:20190420T172230Z
LAST-MODIFIED:20190420T183744Z
UID:2252-1555614000-1555621200@agendadovinho.com.br
SUMMARY:Wine of Argentina
DESCRIPTION:Venha saborear rótulos diferenciados de vinícolas renomadas da Argentina e conheça mais sabores e aromas. \n
URL:https://agendadovinho.com.br/event/wine-of-argentina-3/
LOCATION:Pão de Açúcar Adega\, Rua Augusta\, 2710\, São Paulo\, SP\, Brasil
CATEGORIES:Degustação livre,SP - São Paulo
ATTACH;FMTTYPE=image/jpeg:https://agendadovinho.com.br/wp-content/uploads/2019/04/pao-de-acucar-adega-e1556067472626.jpg
END:VEVENT
END:VCALENDAR