BEGIN:VCALENDAR
VERSION:2.0
PRODID:-//Agenda do Vinho - ECPv4.9.0//NONSGML v1.0//EN
CALSCALE:GREGORIAN
METHOD:PUBLISH
X-WR-CALNAME:Agenda do Vinho
X-ORIGINAL-URL:https://agendadovinho.com.br
X-WR-CALDESC:Eventos para Agenda do Vinho
BEGIN:VEVENT
DTSTART;TZID=America/Sao_Paulo:20200306T200000
DTEND;TZID=America/Sao_Paulo:20200306T200000
DTSTAMP:20260425T165026
CREATED:20200210T161442Z
LAST-MODIFIED:20200210T161442Z
UID:11268-1583524800-1583524800@agendadovinho.com.br
SUMMARY:WINE NIGHT
DESCRIPTION:VEM AÍ A 2ª EDIÇÃO DO EVENTO WINE NIGHT! UMA EXPERIENCIA ÚNICA DE FALAR INGLES E DEGUSTAR EXCELENTES RÓTULOS DE “FELICIDADE ENGARRAFADA”. UMA NOVIDADE E EXCLUSIVIDADE DA SABOR DE VINHO EM PARCEIRA COM A WISE UP E PIU JOSÉ EVENTOS. SÃO VAGAS LIMITADAS! GARANTA A SUA\, CONVIDE ALGUÉM PARA TE ACOMPANHAR E PRATICAR INGLÊS NUM AMBIENTE DESCONTRAÍDO E DE ALTO NÍVEL\, COMO SÃO OS EVENTOS DA SABOR DE VINHO. \n
URL:https://agendadovinho.com.br/event/wine-night-2/
LOCATION:Piu José Eventos\, R. Virgínia Dalabona\, 700 - Orleans\, Curitiba - PR\, 82310-390\, Curitiba\, PR\, 82310-390\, Brasil
CATEGORIES:Degustação,PR - Curitiba
ATTACH;FMTTYPE=image/jpeg:https://agendadovinho.com.br/wp-content/uploads/2020/02/wine-night_060320.jpg
END:VEVENT
END:VCALENDAR