BEGIN:VCALENDAR
VERSION:2.0
PRODID:-//Agenda do Vinho - ECPv4.9.0//NONSGML v1.0//EN
CALSCALE:GREGORIAN
METHOD:PUBLISH
X-WR-CALNAME:Agenda do Vinho
X-ORIGINAL-URL:https://agendadovinho.com.br
X-WR-CALDESC:Eventos para Agenda do Vinho
BEGIN:VEVENT
DTSTART;TZID=America/Sao_Paulo:20191005T190000
DTEND;TZID=America/Sao_Paulo:20191005T230000
DTSTAMP:20260419T134953
CREATED:20190825T210637Z
LAST-MODIFIED:20190825T210637Z
UID:7390-1570302000-1570316400@agendadovinho.com.br
SUMMARY:Wine Day
DESCRIPTION:Mais um Wine Day está chegando e você não pode ficar de fora deste grande evento de VINHOS e DESCONTOS!!!! 🍷🍷🍷📢✴ \nMais de 120 rótulos a serem degustados – de 12 países: Argentina\, Chile\, Portugal\, Espanha\, Uruguai\, Itália\, Austrália\, Nova Zelândia\, Grécia\, França\, Alemanha e África do Sul. Também estarão presentes no evento 5 grandes produtores como:\nGonzalo Guzman (produtor) – El Principal (vinícola) – Chile; Cristian Castro – De Martino – Chile;\nMaximiliano Hernández Toso – Riglos (vinícola) – Argentina; Cristina Santoro – Bogeda Bouza (vinícola) – Uruguai; Jean-Charles Villard – Villard (vinícola) – Chile. Além de GASTRONOMIA excelente\, MÚSICA e LOJA de VINHOS com PREÇOS PROMOCIONAIS!!!!! \nInformações:\nData: 05 de outubro\nHorário: 19hr às 23hr\nLocal: @alicesbuffet_\nContato: (85) 98155-7581 \n
URL:https://agendadovinho.com.br/event/wine-day-4/
LOCATION:AliceS Buffet\, R. República da Armênia\, 1444 - Parque Manibura\,\, Fortaleza\, CE\, 60821-760\, Brasil
CATEGORIES:CE - Fortaleza,Degustação
ATTACH;FMTTYPE=image/jpeg:https://agendadovinho.com.br/wp-content/uploads/2019/08/wine-day_051019.jpg
END:VEVENT
END:VCALENDAR