BEGIN:VCALENDAR
VERSION:2.0
PRODID:-//Agenda do Vinho - ECPv4.9.0//NONSGML v1.0//EN
CALSCALE:GREGORIAN
METHOD:PUBLISH
X-WR-CALNAME:Agenda do Vinho
X-ORIGINAL-URL:https://agendadovinho.com.br
X-WR-CALDESC:Eventos para Agenda do Vinho
BEGIN:VEVENT
DTSTART;TZID=America/Sao_Paulo:20200331T193000
DTEND;TZID=America/Sao_Paulo:20200331T210000
DTSTAMP:20260425T165530
CREATED:20200310T164145Z
LAST-MODIFIED:20200310T164145Z
UID:12000-1585683000-1585688400@agendadovinho.com.br
SUMMARY:Wine Class - Vinhos da África do Sul
DESCRIPTION:A Vineria 1976 preparou\, em parceria com a VM Vinhos\, uma noite de aromas e sabores sul-africanos para nossa próxima Wine Class!\n\nAtualmente\, graças aos seus riquíssimos terroirs\, a África do Sul tem se destacado cada vez mais no enoturismo. O país ocupa a sétima posição na produção mundial de vinhos e\, apenas em 2017\, exportou quase 450 milhões de litros.\n\nA Wine Class do mês de março fará um passeio pelas melhores regiões vinícolas da África do Sul\, com suas paisagens deslumbrantes e seus vinhos de alta qualidade. A aula será conduzida por Rafael Moura.\n\nVenha conferir!\n
URL:https://agendadovinho.com.br/event/wine-class-vinhos-da-africa-do-sul/
LOCATION:Vineria1976\, Praça Dr. Maurício Cardoso\, 49 - Moinhos de Vento\, Porto Alegre\, RS\, 90570-010\, Brasil
CATEGORIES:Curso técnico,RS - Porto Alegre
ATTACH;FMTTYPE=image/png:https://agendadovinho.com.br/wp-content/uploads/2020/03/wine-class_310320.png
END:VEVENT
END:VCALENDAR