BEGIN:VCALENDAR
VERSION:2.0
PRODID:-//Agenda do Vinho - ECPv4.9.0//NONSGML v1.0//EN
CALSCALE:GREGORIAN
METHOD:PUBLISH
X-WR-CALNAME:Agenda do Vinho
X-ORIGINAL-URL:https://agendadovinho.com.br
X-WR-CALDESC:Eventos para Agenda do Vinho
BEGIN:VEVENT
DTSTART;TZID=America/Sao_Paulo:20200703T180000
DTEND;TZID=America/Sao_Paulo:20200703T180000
DTSTAMP:20260425T132813
CREATED:20200702T155038Z
LAST-MODIFIED:20200702T155038Z
UID:14739-1593799200-1593799200@agendadovinho.com.br
SUMMARY:Viver e viajar
DESCRIPTION:03/07 – 18h \n
URL:https://agendadovinho.com.br/event/viver-e-viajar/
LOCATION:Instagram
CATEGORIES:Online,Outros
ATTACH;FMTTYPE=image/jpeg:https://agendadovinho.com.br/wp-content/uploads/2020/07/davinha_aovinho_030720.jpg
END:VEVENT
END:VCALENDAR