BEGIN:VCALENDAR
VERSION:2.0
PRODID:-//Agenda do Vinho - ECPv4.9.0//NONSGML v1.0//EN
CALSCALE:GREGORIAN
METHOD:PUBLISH
X-WR-CALNAME:Agenda do Vinho
X-ORIGINAL-URL:https://agendadovinho.com.br
X-WR-CALDESC:Eventos para Agenda do Vinho
BEGIN:VEVENT
DTSTART;TZID=America/Sao_Paulo:20210428T190000
DTEND;TZID=America/Sao_Paulo:20210428T190000
DTSTAMP:20260422T230517
CREATED:20210419T145829Z
LAST-MODIFIED:20210419T145829Z
UID:17391-1619636400-1619636400@agendadovinho.com.br
SUMMARY:Vitivinicultura na Serra do Sudeste
DESCRIPTION:28/abr – 19:00 \n
URL:https://agendadovinho.com.br/event/vitivinicultura-na-serra-do-sudeste/
LOCATION:Instagram
CATEGORIES:Curso técnico,Online
ATTACH;FMTTYPE=image/jpeg:https://agendadovinho.com.br/wp-content/uploads/2021/04/ffescoladevinho_280421.jpg
END:VEVENT
END:VCALENDAR