BEGIN:VCALENDAR
VERSION:2.0
PRODID:-//Agenda do Vinho - ECPv4.9.0//NONSGML v1.0//EN
CALSCALE:GREGORIAN
METHOD:PUBLISH
X-WR-CALNAME:Agenda do Vinho
X-ORIGINAL-URL:https://agendadovinho.com.br
X-WR-CALDESC:Eventos para Agenda do Vinho
BEGIN:VEVENT
DTSTART;TZID=America/Sao_Paulo:20201007T190000
DTEND;TZID=America/Sao_Paulo:20201007T190000
DTSTAMP:20260425T133018
CREATED:20201007T160214Z
LAST-MODIFIED:20201007T160214Z
UID:16144-1602097200-1602097200@agendadovinho.com.br
SUMMARY:Vinícola Stella Valentino
DESCRIPTION:07/out – 19:00 \n
URL:https://agendadovinho.com.br/event/vinicola-stella-valentino/
LOCATION:Instagram
CATEGORIES:Curso técnico,Online
ATTACH;FMTTYPE=image/jpeg:https://agendadovinho.com.br/wp-content/uploads/2020/10/davinha_aovinho_071020.jpg
END:VEVENT
END:VCALENDAR