BEGIN:VCALENDAR
VERSION:2.0
PRODID:-//Agenda do Vinho - ECPv4.9.0//NONSGML v1.0//EN
CALSCALE:GREGORIAN
METHOD:PUBLISH
X-WR-CALNAME:Agenda do Vinho
X-ORIGINAL-URL:https://agendadovinho.com.br
X-WR-CALDESC:Eventos para Agenda do Vinho
BEGIN:VEVENT
DTSTART;TZID=America/Sao_Paulo:20200806T220000
DTEND;TZID=America/Sao_Paulo:20200806T220000
DTSTAMP:20260425T214148
CREATED:20200806T153557Z
LAST-MODIFIED:20200806T153557Z
UID:15515-1596751200-1596751200@agendadovinho.com.br
SUMMARY:Vinícola Larentis
DESCRIPTION:06/ago – 22:00 \n
URL:https://agendadovinho.com.br/event/vinicola-larentis/
LOCATION:Instagram
CATEGORIES:Curso técnico,Online
ATTACH;FMTTYPE=image/jpeg:https://agendadovinho.com.br/wp-content/uploads/2020/08/enologro_060820.jpg
END:VEVENT
END:VCALENDAR