BEGIN:VCALENDAR
VERSION:2.0
PRODID:-//Agenda do Vinho - ECPv4.9.0//NONSGML v1.0//EN
CALSCALE:GREGORIAN
METHOD:PUBLISH
X-WR-CALNAME:Agenda do Vinho
X-ORIGINAL-URL:https://agendadovinho.com.br
X-WR-CALDESC:Eventos para Agenda do Vinho
BEGIN:VEVENT
DTSTART;TZID=America/Sao_Paulo:20200416T160000
DTEND;TZID=America/Sao_Paulo:20200416T160000
DTSTAMP:20260426T022544
CREATED:20200416T162330Z
LAST-MODIFIED:20200416T162330Z
UID:12587-1587052800-1587052800@agendadovinho.com.br
SUMMARY:Vinícola Góes
DESCRIPTION:A Live desta semana da @vinhonavila será com a Vinícola Góes e o seu enólogo Fábio.\n🍷🇧🇷\nNão deixe de assistir e garanta seu kit da semana\, com entrega grátis. \nhttps://www.ingressocerto.com/clube-do-vinho-na-vila-compre-do-brasil \nDesconto com o cupom agendadovinho \n
URL:https://agendadovinho.com.br/event/vinicola-goes/
LOCATION:Instagram
CATEGORIES:Curso técnico,Online
ATTACH;FMTTYPE=image/jpeg:https://agendadovinho.com.br/wp-content/uploads/2020/04/vinhonavila_160420.jpg
END:VEVENT
END:VCALENDAR