BEGIN:VCALENDAR
VERSION:2.0
PRODID:-//Agenda do Vinho - ECPv4.9.0//NONSGML v1.0//EN
CALSCALE:GREGORIAN
METHOD:PUBLISH
X-WR-CALNAME:Agenda do Vinho
X-ORIGINAL-URL:https://agendadovinho.com.br
X-WR-CALDESC:Eventos para Agenda do Vinho
BEGIN:VEVENT
DTSTART;TZID=America/Sao_Paulo:20200430T210000
DTEND;TZID=America/Sao_Paulo:20200430T210000
DTSTAMP:20260426T022902
CREATED:20200430T190848Z
LAST-MODIFIED:20200430T190848Z
UID:13052-1588280400-1588280400@agendadovinho.com.br
SUMMARY:Vinícola Família Bebber
DESCRIPTION:30/04 – 21h \n
URL:https://agendadovinho.com.br/event/vinicola-familia-bebber/
LOCATION:Instagram
CATEGORIES:Curso técnico,Online
ATTACH;FMTTYPE=image/jpeg:https://agendadovinho.com.br/wp-content/uploads/2020/04/davinha_aovinho_300420_2.jpg
END:VEVENT
END:VCALENDAR