BEGIN:VCALENDAR
VERSION:2.0
PRODID:-//Agenda do Vinho - ECPv4.9.0//NONSGML v1.0//EN
CALSCALE:GREGORIAN
METHOD:PUBLISH
X-WR-CALNAME:Agenda do Vinho
X-ORIGINAL-URL:https://agendadovinho.com.br
X-WR-CALDESC:Eventos para Agenda do Vinho
BEGIN:VEVENT
DTSTART;TZID=America/Sao_Paulo:20201001T200000
DTEND;TZID=America/Sao_Paulo:20201001T200000
DTSTAMP:20260423T092727
CREATED:20200930T154104Z
LAST-MODIFIED:20200930T154104Z
UID:16074-1601582400-1601582400@agendadovinho.com.br
SUMMARY:Vinícola Carmen
DESCRIPTION:01/out – 20:00 \n
URL:https://agendadovinho.com.br/event/vinicola-carmen/
LOCATION:Instagram
CATEGORIES:Curso técnico,Online
ATTACH;FMTTYPE=image/jpeg:https://agendadovinho.com.br/wp-content/uploads/2020/09/davinha_aovinho_011020.jpg
END:VEVENT
END:VCALENDAR