BEGIN:VCALENDAR
VERSION:2.0
PRODID:-//Agenda do Vinho - ECPv4.9.0//NONSGML v1.0//EN
CALSCALE:GREGORIAN
METHOD:PUBLISH
X-WR-CALNAME:Agenda do Vinho
X-ORIGINAL-URL:https://agendadovinho.com.br
X-WR-CALDESC:Eventos para Agenda do Vinho
BEGIN:VEVENT
DTSTART;TZID=America/Sao_Paulo:20200622T200000
DTEND;TZID=America/Sao_Paulo:20200622T200000
DTSTAMP:20260425T231156
CREATED:20200620T204506Z
LAST-MODIFIED:20200620T204506Z
UID:14402-1592856000-1592856000@agendadovinho.com.br
SUMMARY:Vinícola Aurora
DESCRIPTION:22/06 – 20h \n
URL:https://agendadovinho.com.br/event/vinicola-aurora/
LOCATION:Instagram
CATEGORIES:Curso técnico,Online
ATTACH;FMTTYPE=image/jpeg:https://agendadovinho.com.br/wp-content/uploads/2020/06/vinhosdobruno_220620.jpg
END:VEVENT
END:VCALENDAR