BEGIN:VCALENDAR
VERSION:2.0
PRODID:-//Agenda do Vinho - ECPv4.9.0//NONSGML v1.0//EN
CALSCALE:GREGORIAN
METHOD:PUBLISH
X-WR-CALNAME:Agenda do Vinho
X-ORIGINAL-URL:https://agendadovinho.com.br
X-WR-CALDESC:Eventos para Agenda do Vinho
BEGIN:VEVENT
DTSTART;TZID=America/Sao_Paulo:20191005T170000
DTEND;TZID=America/Sao_Paulo:20191005T193000
DTSTAMP:20260419T121431
CREATED:20190920T200016Z
LAST-MODIFIED:20190920T200016Z
UID:8423-1570294800-1570303800@agendadovinho.com.br
SUMMARY:Vini Sunset
DESCRIPTION:Vinho+Rock+Por do Sol+Amigos!! Vamos? \nO fim de tarde de um sábado com bastante vinho e rock para molhar as palavras em rodas de amigos e apreciar o lindo por do sol de Brasília. E tem mais\, com um excelente Costelão à vontade! \n
URL:https://agendadovinho.com.br/event/vini-sunset/
LOCATION:Vini Vinhos\, SCLN 102 BL. A Lj \, 70\, Asa Norte\, Brasília\, DF\, Brasil
CATEGORIES:DF - Brasília,Outros
ATTACH;FMTTYPE=image/jpeg:https://agendadovinho.com.br/wp-content/uploads/2019/09/vini-sunset_051019.jpg
END:VEVENT
END:VCALENDAR