BEGIN:VCALENDAR
VERSION:2.0
PRODID:-//Agenda do Vinho - ECPv4.9.0//NONSGML v1.0//EN
CALSCALE:GREGORIAN
METHOD:PUBLISH
X-WR-CALNAME:Agenda do Vinho
X-ORIGINAL-URL:https://agendadovinho.com.br
X-WR-CALDESC:Eventos para Agenda do Vinho
BEGIN:VEVENT
DTSTART;TZID=America/Sao_Paulo:20200122T193000
DTEND;TZID=America/Sao_Paulo:20200122T193000
DTSTAMP:20260425T233735
CREATED:20200109T195014Z
LAST-MODIFIED:20200109T195014Z
UID:10528-1579721400-1579721400@agendadovinho.com.br
SUMMARY:Vinhos para o Verão
DESCRIPTION:Dias quentes pedem bebidas mais leves e refrescantes. Venha participar de uma aula sobre vinhos para o verão\, no dia 22 de janeiro\, quarta-feira\, às 19h30\, na Casa Porcini\, em Botafogo. O sommelier italiano Marco Cestrone dará dicas sobre vinhos leves\, frescos e frutados\, ideais para a estação. No final do evento\, serão degustados três vinhos italianos.\nLocal: Casa Porcini\nRua Martins Ferreira\, 40\, Botafogo\, Rio de Janeiro/RJ\nValor: R$ 90\nVagas limitadas\nPara mais informações e inscrições\, acesse o link: https://www.casaporcini.com.br/loja \n
URL:https://agendadovinho.com.br/event/vinhos-para-o-verao-3/
LOCATION:Casa Porcini\, R. Martins Ferreira\, 40 - Botafogo\, Rio de Janeiro\, RJ\, 22271-010\, Brasil
CATEGORIES:Curso técnico,RJ - Rio de Janeiro
ATTACH;FMTTYPE=image/jpeg:https://agendadovinho.com.br/wp-content/uploads/2020/01/vinhos-para-o-verao_220120.jpg
END:VEVENT
END:VCALENDAR