BEGIN:VCALENDAR
VERSION:2.0
PRODID:-//Agenda do Vinho - ECPv4.9.0//NONSGML v1.0//EN
CALSCALE:GREGORIAN
METHOD:PUBLISH
X-WR-CALNAME:Agenda do Vinho
X-ORIGINAL-URL:https://agendadovinho.com.br
X-WR-CALDESC:Eventos para Agenda do Vinho
BEGIN:VEVENT
DTSTART;TZID=America/Sao_Paulo:20200305T190000
DTEND;TZID=America/Sao_Paulo:20200305T210000
DTSTAMP:20260425T183156
CREATED:20200229T184650Z
LAST-MODIFIED:20200229T184650Z
UID:11562-1583434800-1583442000@agendadovinho.com.br
SUMMARY:Vinhos para Mulheres
DESCRIPTION:INSCRIÇÃO NAS AULAS É DE R$60\,00\, SENDO REVERTIDO R$30\,00 EM CARTÃO PRESENTE PARA COMPRAS NAS LOJAS\, SITE E APP. \nSobre o Curso: \nHarmonização irresistíveis de vinhos indicadas para mulheres\, orientadas pelo sommelier e Expert Zona Sul\, Dionísio Chaves. \n
URL:https://agendadovinho.com.br/event/vinhos-para-mulheres-2/
LOCATION:Supermercado Zona Sul Ipanema\, R. Barão da Torre\, 220 - Ipanema\, Rio de Janeiro\, RJ\, 22411-000\, Brasil
CATEGORIES:Curso técnico,RJ - Rio de Janeiro
ATTACH;FMTTYPE=image/jpeg:https://agendadovinho.com.br/wp-content/uploads/2020/02/vinhos-para-mulheres_040320.jpg
END:VEVENT
END:VCALENDAR