BEGIN:VCALENDAR
VERSION:2.0
PRODID:-//Agenda do Vinho - ECPv4.9.0//NONSGML v1.0//EN
CALSCALE:GREGORIAN
METHOD:PUBLISH
X-WR-CALNAME:Agenda do Vinho
X-ORIGINAL-URL:https://agendadovinho.com.br
X-WR-CALDESC:Eventos para Agenda do Vinho
BEGIN:VEVENT
DTSTART;TZID=America/Sao_Paulo:20200311T193000
DTEND;TZID=America/Sao_Paulo:20200311T223000
DTSTAMP:20260423T130533
CREATED:20200228T183746Z
LAST-MODIFIED:20200228T184158Z
UID:11479-1583955000-1583965800@agendadovinho.com.br
SUMMARY:Vinhos Naturais | Sommelière Ana Borges
DESCRIPTION:O vinho é uma bebida cheia de mistérios\, histórias e processos de produção. Os naturais também possuem suas peculiaridades\, pois sofrem intervenção mínima\, respeitando as sensações que devem transmitir.\n⠀\nNo dia 11 de março\, a sommelière do Alma vai compartilhar todos os detalhes dos vinhos naturais\, em uma única noite\, com a degustação de rótulos nacionais e importados que se encaixam na proposta. Tudo isso harmonizado com um jantar especial preparado pelo chef Caio Soter. 🍷 \n
URL:https://agendadovinho.com.br/event/vinhos-naturais-sommeliere-ana-borges/
LOCATION:Alma Chef | Casa de Gastronomia\, R. Curitiba\, 2081\, Belo Horizonte\, MG\, Brasil
CATEGORIES:Curso técnico,MG - Belo Horizonte
ATTACH;FMTTYPE=image/jpeg:https://agendadovinho.com.br/wp-content/uploads/2020/02/vinhos-naturais_110320.jpg
END:VEVENT
END:VCALENDAR