BEGIN:VCALENDAR
VERSION:2.0
PRODID:-//Agenda do Vinho - ECPv4.9.0//NONSGML v1.0//EN
CALSCALE:GREGORIAN
METHOD:PUBLISH
X-WR-CALNAME:Agenda do Vinho
X-ORIGINAL-URL:https://agendadovinho.com.br
X-WR-CALDESC:Eventos para Agenda do Vinho
BEGIN:VEVENT
DTSTART;TZID=America/Sao_Paulo:20200121T193000
DTEND;TZID=America/Sao_Paulo:20200121T210000
DTSTAMP:20260425T221452
CREATED:20200114T181957Z
LAST-MODIFIED:20200114T181957Z
UID:10573-1579635000-1579640400@agendadovinho.com.br
SUMMARY:Vinhos na Taça - Noite do Tannat
DESCRIPTION:A House of Wine tem o prazer de apresentar VINHOS NA TAÇA – Noite do Tannat.\nNo dia 21 de janeiro\, em nossa loja em Ipanema\, às 19:30 horas\, não fique de fora do encontro. \nProgramação \n19:30 – Boas-vindas –  Espumante \n20:00 às 21:00 – Deguste quatro taças de vinhos Tannat e ajude a escolher o tannat 2020 da HOUSE. \nV A G A S  L I M I T A D A S\nPara mais informações: (21)  97542.2692 \n
URL:https://agendadovinho.com.br/event/vinhos-na-taca-noite-do-tannat/
LOCATION:House of Wine – Ipanema\, R. Joana Angélica\, 159 - Ipanema\, Rio de Janeiro\, RJ\, 22420-030\, Brasil
CATEGORIES:Degustação,RJ - Rio de Janeiro
ATTACH;FMTTYPE=image/jpeg:https://agendadovinho.com.br/wp-content/uploads/2020/01/noite-do-tannat_210120.jpg
END:VEVENT
END:VCALENDAR