BEGIN:VCALENDAR
VERSION:2.0
PRODID:-//Agenda do Vinho - ECPv4.9.0//NONSGML v1.0//EN
CALSCALE:GREGORIAN
METHOD:PUBLISH
X-WR-CALNAME:Agenda do Vinho
X-ORIGINAL-URL:https://agendadovinho.com.br
X-WR-CALDESC:Eventos para Agenda do Vinho
BEGIN:VEVENT
DTSTART;TZID=America/Sao_Paulo:20190507T193000
DTEND;TZID=America/Sao_Paulo:20190507T193000
DTSTAMP:20260420T155924
CREATED:20190502T152245Z
LAST-MODIFIED:20190502T152245Z
UID:3029-1557257400-1557257400@agendadovinho.com.br
SUMMARY:Vinhos Italianos
DESCRIPTION:A Itália surpreende tanto pela quantidade de castas autóctones – numa estimativa modesta\, mais de quatrocentas –\, quanto pela diversidade de seus vinhos. Para tentar mostrar toda essa riqueza\, o curso de vinhos italianos\, ministrado por Celio Alzer há vinte e cinco anos\, é dividido em três aulas. \nVeja o programa: \nAula 1 (Norte e Nordeste) \n\nNebbiolo d’Alba Ochetti 13\, Renato Ratti (Piemonte)\nTeroldego 16\, Foradori (Alto Adige)\nValtellina Superiore La Mossa\, La Perla (Lombardia)\nCantina di Ora Amarone 13\, Schenk (Veneto)\nTorcolato 11\, Maculan – branco doce (Veneto)\n\nAula 2 (Centro) \n\nVerdicchio dei Castelli di Jesi 16\, Garofoli (Marche)\nRosso Cònero Serrano 16\, Umani Ronchi (Abruzzo)\nMontiano 14\, Falesco (Lazio)\nVolpaia Chianti Classico 15 (Toscana)\n\nAula 3 (Sul e ilhas) \n\nFiano di Avellino 15\, Terredora (Campania)\nA Mano Primitivo 15 (Puglia)\nCirò Rosso Classico Superiore Riserva 13\, A Vita (Calabria)\nMonica di Sardegna Iselis Superiore 15 (Sardenha)\nGulfi Reseca 07 (Sicília)\n\nAo final\, para brindar\, o Chianti La Piuma. \nLimitado a 36 pessoas. \nDatas: 07\, 14 e 21 de maio de 2019\, às 3as feiras\nHora: 19h30\nLocal: Flamengo\nPreços: R$ 469\,00 (sócio) / R$ 609\,00 (não sócio).\nMais informações e inscrição: 2285-0497 / 2265-2157 / abs@abs-rio.com.br \n
URL:https://agendadovinho.com.br/event/vinhos-italianos/
LOCATION:ABS Rio – Flamengo\, Praia do Flamengo 66\, Bl. B - Sala 311 Flamengo - Rio de Janeiro - RJ - 22210-903\, Rio de Janeiro\, RJ\, 22210-903\, Brasil
CATEGORIES:Curso técnico,RJ - Rio de Janeiro
ATTACH;FMTTYPE=image/jpeg:https://agendadovinho.com.br/wp-content/uploads/2019/05/vinhos-italianos_070519.jpg
END:VEVENT
END:VCALENDAR