BEGIN:VCALENDAR
VERSION:2.0
PRODID:-//Agenda do Vinho - ECPv4.9.0//NONSGML v1.0//EN
CALSCALE:GREGORIAN
METHOD:PUBLISH
X-WR-CALNAME:Agenda do Vinho
X-ORIGINAL-URL:https://agendadovinho.com.br
X-WR-CALDESC:Eventos para Agenda do Vinho
BEGIN:VEVENT
DTSTART;TZID=America/Sao_Paulo:20200430T200000
DTEND;TZID=America/Sao_Paulo:20200430T200000
DTSTAMP:20260426T022719
CREATED:20200426T155049Z
LAST-MODIFIED:20200426T155049Z
UID:12899-1588276800-1588276800@agendadovinho.com.br
SUMMARY:Vinhos harmonizam com calor?
DESCRIPTION:Dia 30/04\, às 20h. \n
URL:https://agendadovinho.com.br/event/vinhos-harmonizam-com-calor/
LOCATION:Instagram
CATEGORIES:Curso técnico,Online
ATTACH;FMTTYPE=image/jpeg:https://agendadovinho.com.br/wp-content/uploads/2020/04/somm.nataliagaion_300420.jpg
END:VEVENT
END:VCALENDAR