BEGIN:VCALENDAR
VERSION:2.0
PRODID:-//Agenda do Vinho - ECPv4.9.0//NONSGML v1.0//EN
CALSCALE:GREGORIAN
METHOD:PUBLISH
X-WR-CALNAME:Agenda do Vinho
X-ORIGINAL-URL:https://agendadovinho.com.br
X-WR-CALDESC:Eventos para Agenda do Vinho
BEGIN:VEVENT
DTSTART;TZID=America/Sao_Paulo:20200624T150000
DTEND;TZID=America/Sao_Paulo:20200624T150000
DTSTAMP:20260425T151529
CREATED:20200624T161522Z
LAST-MODIFIED:20200624T161522Z
UID:14511-1593010800-1593010800@agendadovinho.com.br
SUMMARY:Vinhos em supermercados
DESCRIPTION:24/06 – 15h \n
URL:https://agendadovinho.com.br/event/vinhos-em-supermercados/
LOCATION:Instagram
CATEGORIES:Curso técnico,Online
ATTACH;FMTTYPE=image/jpeg:https://agendadovinho.com.br/wp-content/uploads/2020/06/thewineschoolbrasil_240620.jpg
END:VEVENT
END:VCALENDAR