BEGIN:VCALENDAR
VERSION:2.0
PRODID:-//Agenda do Vinho - ECPv4.9.0//NONSGML v1.0//EN
CALSCALE:GREGORIAN
METHOD:PUBLISH
X-WR-CALNAME:Agenda do Vinho
X-ORIGINAL-URL:https://agendadovinho.com.br
X-WR-CALDESC:Eventos para Agenda do Vinho
BEGIN:VEVENT
DTSTART;TZID=America/Sao_Paulo:20210317T203000
DTEND;TZID=America/Sao_Paulo:20210317T203000
DTSTAMP:20260423T033105
CREATED:20210317T144514Z
LAST-MODIFIED:20210317T144514Z
UID:17269-1616013000-1616013000@agendadovinho.com.br
SUMMARY:Vinhos em lata: saiba tudo sobre essa nova tendência
DESCRIPTION:17/mar – 20:30 \n
URL:https://agendadovinho.com.br/event/vinhos-em-lata-saiba-tudo-sobre-essa-nova-tendencia/
LOCATION:Instagram
CATEGORIES:Curso técnico,Online
ATTACH;FMTTYPE=image/jpeg:https://agendadovinho.com.br/wp-content/uploads/2021/03/selorpwine_170321.jpg
END:VEVENT
END:VCALENDAR