BEGIN:VCALENDAR
VERSION:2.0
PRODID:-//Agenda do Vinho - ECPv4.9.0//NONSGML v1.0//EN
CALSCALE:GREGORIAN
METHOD:PUBLISH
X-WR-CALNAME:Agenda do Vinho
X-ORIGINAL-URL:https://agendadovinho.com.br
X-WR-CALDESC:Eventos para Agenda do Vinho
BEGIN:VEVENT
DTSTART;TZID=America/Sao_Paulo:20200506T210000
DTEND;TZID=America/Sao_Paulo:20200506T210000
DTSTAMP:20260426T004848
CREATED:20200505T154644Z
LAST-MODIFIED:20200505T154644Z
UID:13124-1588798800-1588798800@agendadovinho.com.br
SUMMARY:Vinhos e Livros
DESCRIPTION:06/05 – 21h. \n
URL:https://agendadovinho.com.br/event/vinhos-e-livros/
LOCATION:Instagram
CATEGORIES:Online,Outros
ATTACH;FMTTYPE=image/jpeg:https://agendadovinho.com.br/wp-content/uploads/2020/05/winelover_br_060520.jpg
END:VEVENT
END:VCALENDAR