BEGIN:VCALENDAR
VERSION:2.0
PRODID:-//Agenda do Vinho - ECPv4.9.0//NONSGML v1.0//EN
CALSCALE:GREGORIAN
METHOD:PUBLISH
X-WR-CALNAME:Agenda do Vinho
X-ORIGINAL-URL:https://agendadovinho.com.br
X-WR-CALDESC:Eventos para Agenda do Vinho
BEGIN:VEVENT
DTSTART;TZID=America/Sao_Paulo:20200625T200000
DTEND;TZID=America/Sao_Paulo:20200625T200000
DTSTAMP:20260425T183904
CREATED:20200624T162232Z
LAST-MODIFIED:20200624T162232Z
UID:14538-1593115200-1593115200@agendadovinho.com.br
SUMMARY:Vinhos e cortes especiais e a história da Vinícola Marzarotto
DESCRIPTION:25/06 – 20h \n
URL:https://agendadovinho.com.br/event/vinhos-e-cortes-especiais-e-a-historia-da-vinicola-marzarotto/
LOCATION:Vídeo conferência
CATEGORIES:Curso técnico,Online
ATTACH;FMTTYPE=image/jpeg:https://agendadovinho.com.br/wp-content/uploads/2020/06/vinhosbrasil.2020_250620.jpg
END:VEVENT
END:VCALENDAR